BEGIN:VCALENDAR
VERSION:2.0
PRODID:-//Erich Kästner Schule Bonn - ECPv6.15.13.1//NONSGML v1.0//EN
CALSCALE:GREGORIAN
METHOD:PUBLISH
X-ORIGINAL-URL:https://eks-bonn.de
X-WR-CALDESC:Veranstaltungen für Erich Kästner Schule Bonn
REFRESH-INTERVAL;VALUE=DURATION:PT1H
X-Robots-Tag:noindex
X-PUBLISHED-TTL:PT1H
BEGIN:VTIMEZONE
TZID:Europe/Berlin
BEGIN:DAYLIGHT
TZOFFSETFROM:+0100
TZOFFSETTO:+0200
TZNAME:CEST
DTSTART:20240331T010000
END:DAYLIGHT
BEGIN:STANDARD
TZOFFSETFROM:+0200
TZOFFSETTO:+0100
TZNAME:CET
DTSTART:20241027T010000
END:STANDARD
BEGIN:DAYLIGHT
TZOFFSETFROM:+0100
TZOFFSETTO:+0200
TZNAME:CEST
DTSTART:20250330T010000
END:DAYLIGHT
BEGIN:STANDARD
TZOFFSETFROM:+0200
TZOFFSETTO:+0100
TZNAME:CET
DTSTART:20251026T010000
END:STANDARD
BEGIN:DAYLIGHT
TZOFFSETFROM:+0100
TZOFFSETTO:+0200
TZNAME:CEST
DTSTART:20260329T010000
END:DAYLIGHT
BEGIN:STANDARD
TZOFFSETFROM:+0200
TZOFFSETTO:+0100
TZNAME:CET
DTSTART:20261025T010000
END:STANDARD
END:VTIMEZONE
BEGIN:VEVENT
DTSTART;VALUE=DATE:20250630
DTEND;VALUE=DATE:20250705
DTSTAMP:20260420T105853
CREATED:20250512T075654Z
LAST-MODIFIED:20250512T075654Z
UID:2299-1751241600-1751673599@eks-bonn.de
SUMMARY:Fahrradtraining Klasse 4a/4b
DESCRIPTION:
URL:https://eks-bonn.de/termine/fahrradtraining-klasse-4a-4b/
END:VEVENT
BEGIN:VEVENT
DTSTART;VALUE=DATE:20250711
DTEND;VALUE=DATE:20250712
DTSTAMP:20260420T105853
CREATED:20241108T133818Z
LAST-MODIFIED:20241108T133818Z
UID:2234-1752192000-1752278399@eks-bonn.de
SUMMARY:Letzter Schultag
DESCRIPTION:
URL:https://eks-bonn.de/termine/letzter-schultag-4/
END:VEVENT
BEGIN:VEVENT
DTSTART;VALUE=DATE:20250721
DTEND;VALUE=DATE:20250816
DTSTAMP:20260420T105853
CREATED:20250514T042318Z
LAST-MODIFIED:20250514T042318Z
UID:2301-1753056000-1755302399@eks-bonn.de
SUMMARY:In den Sommerferien ist das Sekretariat vom 21.07. - 15.08.2025 nicht besetzt.
DESCRIPTION:
URL:https://eks-bonn.de/termine/in-den-sommerferien-ist-das-sekretariat-vom-21-07-15-08-2025-nicht-besetzt/
END:VEVENT
END:VCALENDAR