BEGIN:VCALENDAR
VERSION:2.0
PRODID:-//Erich Kästner Schule Bonn - ECPv6.15.13.1//NONSGML v1.0//EN
CALSCALE:GREGORIAN
METHOD:PUBLISH
X-ORIGINAL-URL:https://eks-bonn.de
X-WR-CALDESC:Veranstaltungen für Erich Kästner Schule Bonn
REFRESH-INTERVAL;VALUE=DURATION:PT1H
X-Robots-Tag:noindex
X-PUBLISHED-TTL:PT1H
BEGIN:VTIMEZONE
TZID:Europe/Berlin
BEGIN:DAYLIGHT
TZOFFSETFROM:+0100
TZOFFSETTO:+0200
TZNAME:CEST
DTSTART:20230326T010000
END:DAYLIGHT
BEGIN:STANDARD
TZOFFSETFROM:+0200
TZOFFSETTO:+0100
TZNAME:CET
DTSTART:20231029T010000
END:STANDARD
BEGIN:DAYLIGHT
TZOFFSETFROM:+0100
TZOFFSETTO:+0200
TZNAME:CEST
DTSTART:20240331T010000
END:DAYLIGHT
BEGIN:STANDARD
TZOFFSETFROM:+0200
TZOFFSETTO:+0100
TZNAME:CET
DTSTART:20241027T010000
END:STANDARD
BEGIN:DAYLIGHT
TZOFFSETFROM:+0100
TZOFFSETTO:+0200
TZNAME:CEST
DTSTART:20250330T010000
END:DAYLIGHT
BEGIN:STANDARD
TZOFFSETFROM:+0200
TZOFFSETTO:+0100
TZNAME:CET
DTSTART:20251026T010000
END:STANDARD
END:VTIMEZONE
BEGIN:VEVENT
DTSTART;VALUE=DATE:20240610
DTEND;VALUE=DATE:20240615
DTSTAMP:20260423T135624
CREATED:20230926T152244Z
LAST-MODIFIED:20230926T152244Z
UID:1923-1717977600-1718409599@eks-bonn.de
SUMMARY:Radfahrtraining (mit Herrn Müller)
DESCRIPTION:
URL:https://eks-bonn.de/termine/radfahrtraining-mit-herrn-mueller/
END:VEVENT
BEGIN:VEVENT
DTSTART;VALUE=DATE:20240611
DTEND;VALUE=DATE:20240612
DTSTAMP:20260423T135624
CREATED:20230926T152317Z
LAST-MODIFIED:20240315T085805Z
UID:1925-1718064000-1718150399@eks-bonn.de
SUMMARY:18.00 Uhr: Elterninfoabend für Kinder der neuen Klassen 1 (Sj 24/25)
DESCRIPTION:
URL:https://eks-bonn.de/termine/18-00-uhr-elterninfoabend-fuer-die-zukuenftigen-schulneulinge/
END:VEVENT
BEGIN:VEVENT
DTSTART;VALUE=DATE:20240619
DTEND;VALUE=DATE:20240622
DTSTAMP:20260423T135624
CREATED:20240125T162205Z
LAST-MODIFIED:20240125T162205Z
UID:2004-1718755200-1719014399@eks-bonn.de
SUMMARY:Tanzprojekt mit Abschlussveranstaltung am 21.06. (www.dreamdancer-schule.de)
DESCRIPTION:
URL:https://eks-bonn.de/termine/tanzprojekt-mit-abschlussveranstaltung-am-21-06-www-dreamdancer-schule-de/
END:VEVENT
BEGIN:VEVENT
DTSTART;TZID=Europe/Berlin:20240627T080000
DTEND;TZID=Europe/Berlin:20240627T170000
DTSTAMP:20260423T135624
CREATED:20240320T160440Z
LAST-MODIFIED:20240320T160440Z
UID:2036-1719475200-1719507600@eks-bonn.de
SUMMARY:20.00 Uhr: Elternabend (Klasse 1 und 2) zu "Die große Nein-Tonne"
DESCRIPTION:
URL:https://eks-bonn.de/termine/20-00-uhr-elternabend-klasse-1-und-2-zu-die-grosse-nein-tonne/
END:VEVENT
BEGIN:VEVENT
DTSTART;VALUE=DATE:20240628
DTEND;VALUE=DATE:20240629
DTSTAMP:20260423T135624
CREATED:20230926T153136Z
LAST-MODIFIED:20240320T160334Z
UID:1929-1719532800-1719619199@eks-bonn.de
SUMMARY:"Die große Nein-Tonne" (Klasse 1 und 2)
DESCRIPTION:
URL:https://eks-bonn.de/termine/geplant-fuer-ende-april-maidie-nein-tonne-teil-1-und-2-theaterpaedagogische-werkstatt-kl-1-und-2/
END:VEVENT
END:VCALENDAR