BEGIN:VCALENDAR
VERSION:2.0
PRODID:-//Erich Kästner Schule Bonn - ECPv6.15.13.1//NONSGML v1.0//EN
CALSCALE:GREGORIAN
METHOD:PUBLISH
X-WR-CALNAME:Erich Kästner Schule Bonn
X-ORIGINAL-URL:https://eks-bonn.de
X-WR-CALDESC:Veranstaltungen für Erich Kästner Schule Bonn
REFRESH-INTERVAL;VALUE=DURATION:PT1H
X-Robots-Tag:noindex
X-PUBLISHED-TTL:PT1H
BEGIN:VTIMEZONE
TZID:Europe/Berlin
BEGIN:DAYLIGHT
TZOFFSETFROM:+0100
TZOFFSETTO:+0200
TZNAME:CEST
DTSTART:20230326T010000
END:DAYLIGHT
BEGIN:STANDARD
TZOFFSETFROM:+0200
TZOFFSETTO:+0100
TZNAME:CET
DTSTART:20231029T010000
END:STANDARD
BEGIN:DAYLIGHT
TZOFFSETFROM:+0100
TZOFFSETTO:+0200
TZNAME:CEST
DTSTART:20240331T010000
END:DAYLIGHT
BEGIN:STANDARD
TZOFFSETFROM:+0200
TZOFFSETTO:+0100
TZNAME:CET
DTSTART:20241027T010000
END:STANDARD
BEGIN:DAYLIGHT
TZOFFSETFROM:+0100
TZOFFSETTO:+0200
TZNAME:CEST
DTSTART:20250330T010000
END:DAYLIGHT
BEGIN:STANDARD
TZOFFSETFROM:+0200
TZOFFSETTO:+0100
TZNAME:CET
DTSTART:20251026T010000
END:STANDARD
END:VTIMEZONE
BEGIN:VEVENT
DTSTART;VALUE=DATE:20240501
DTEND;VALUE=DATE:20240502
DTSTAMP:20260423T151930
CREATED:20240125T163255Z
LAST-MODIFIED:20240125T163255Z
UID:2020-1714521600-1714607999@eks-bonn.de
SUMMARY:1.Mai Feiertag
DESCRIPTION:
URL:https://eks-bonn.de/termine/1-mai-feiertag/
END:VEVENT
BEGIN:VEVENT
DTSTART;VALUE=DATE:20240502
DTEND;VALUE=DATE:20240503
DTSTAMP:20260423T151930
CREATED:20230926T152124Z
LAST-MODIFIED:20240429T132041Z
UID:1919-1714608000-1714694399@eks-bonn.de
SUMMARY:8.30 – 9.15 Uhr: Schnuppertage Schulneulinge Sj 24/25
DESCRIPTION:
URL:https://eks-bonn.de/termine/8-30-9-15-uhr-schnuppertage-schulneulinge-sj-24-25/
END:VEVENT
BEGIN:VEVENT
DTSTART;VALUE=DATE:20240503
DTEND;VALUE=DATE:20240504
DTSTAMP:20260423T151930
CREATED:20230926T152147Z
LAST-MODIFIED:20240429T132009Z
UID:1921-1714694400-1714780799@eks-bonn.de
SUMMARY:8.30 – 9.15 Uhr: Schnuppertage Schulneulinge Sj 24/25
DESCRIPTION:
URL:https://eks-bonn.de/termine/8-30-9-15-uhr-schnuppertage-schulneulinge-sj-24-25-2/
END:VEVENT
BEGIN:VEVENT
DTSTART;VALUE=DATE:20240506
DTEND;VALUE=DATE:20240507
DTSTAMP:20260423T151930
CREATED:20240125T162008Z
LAST-MODIFIED:20240125T162008Z
UID:2002-1714953600-1715039999@eks-bonn.de
SUMMARY:18.00 - 19.00 Uhr (online): Elternabend " Medien / Cybermobbing / Cybergrooming" (Medienpädagoginnen des Medienzentrums der Stadt Bonn) - Link wird rechtzeitig verschickt
DESCRIPTION:
URL:https://eks-bonn.de/termine/18-00-19-00-uhr-online-elternabend-medien-cybermobbing-cybergrooming-medienpaedagoginnen-des-medienzentrums-der-stadt-bonn-link-wird-rechtzeitig-verschickt/
END:VEVENT
BEGIN:VEVENT
DTSTART;VALUE=DATE:20240509
DTEND;VALUE=DATE:20240510
DTSTAMP:20260423T151930
CREATED:20240125T163046Z
LAST-MODIFIED:20240125T163046Z
UID:2016-1715212800-1715299199@eks-bonn.de
SUMMARY:Christi Himmelfahrt (Feiertag)
DESCRIPTION:
URL:https://eks-bonn.de/termine/christi-himmelfahrt-feiertag/
END:VEVENT
BEGIN:VEVENT
DTSTART;VALUE=DATE:20240510
DTEND;VALUE=DATE:20240511
DTSTAMP:20260423T151930
CREATED:20240125T163138Z
LAST-MODIFIED:20240125T163138Z
UID:2018-1715299200-1715385599@eks-bonn.de
SUMMARY:Beweglicher Ferientag (kein Unterricht\, keine OGS Betreuung)
DESCRIPTION:
URL:https://eks-bonn.de/termine/beweglicher-ferientag-kein-unterricht-keine-ogs-betreuung/
END:VEVENT
BEGIN:VEVENT
DTSTART;VALUE=DATE:20240520
DTEND;VALUE=DATE:20240521
DTSTAMP:20260423T151930
CREATED:20240125T162750Z
LAST-MODIFIED:20240125T162750Z
UID:2010-1716163200-1716249599@eks-bonn.de
SUMMARY:Pfingstmontag (Feiertag)
DESCRIPTION:
URL:https://eks-bonn.de/termine/pfingstmontag-feiertag/
END:VEVENT
BEGIN:VEVENT
DTSTART;VALUE=DATE:20240521
DTEND;VALUE=DATE:20240522
DTSTAMP:20260423T151930
CREATED:20240125T162845Z
LAST-MODIFIED:20240125T162845Z
UID:2012-1716249600-1716335999@eks-bonn.de
SUMMARY:Pfingstferientag
DESCRIPTION:
URL:https://eks-bonn.de/termine/pfingstferientag-2/
END:VEVENT
BEGIN:VEVENT
DTSTART;VALUE=DATE:20240522
DTEND;VALUE=DATE:20240523
DTSTAMP:20260423T151930
CREATED:20240125T162935Z
LAST-MODIFIED:20240125T162935Z
UID:2014-1716336000-1716422399@eks-bonn.de
SUMMARY:Pädagogischer Ganztag (kein Unterricht\, keine OGS Betreuung)
DESCRIPTION:
URL:https://eks-bonn.de/termine/paedagogischer-ganztag-kein-unterricht-keine-ogs-betreuung-3/
END:VEVENT
BEGIN:VEVENT
DTSTART;VALUE=DATE:20240530
DTEND;VALUE=DATE:20240531
DTSTAMP:20260423T151930
CREATED:20240125T162543Z
LAST-MODIFIED:20240125T162543Z
UID:2006-1717027200-1717113599@eks-bonn.de
SUMMARY:Fronleichnam (Feiertag)
DESCRIPTION:
URL:https://eks-bonn.de/termine/fronleichnam-feiertag/
END:VEVENT
BEGIN:VEVENT
DTSTART;VALUE=DATE:20240531
DTEND;VALUE=DATE:20240601
DTSTAMP:20260423T151930
CREATED:20240125T162637Z
LAST-MODIFIED:20240125T162637Z
UID:2008-1717113600-1717199999@eks-bonn.de
SUMMARY:Ausgleichstag (kein Unterricht\, keine OGS Betreuung)
DESCRIPTION:
URL:https://eks-bonn.de/termine/ausgleichstag-kein-unterricht-keine-ogs-betreuung/
END:VEVENT
END:VCALENDAR