BEGIN:VCALENDAR
VERSION:2.0
PRODID:-//Erich Kästner Schule Bonn - ECPv6.15.13.1//NONSGML v1.0//EN
CALSCALE:GREGORIAN
METHOD:PUBLISH
X-ORIGINAL-URL:https://eks-bonn.de
X-WR-CALDESC:Veranstaltungen für Erich Kästner Schule Bonn
REFRESH-INTERVAL;VALUE=DURATION:PT1H
X-Robots-Tag:noindex
X-PUBLISHED-TTL:PT1H
BEGIN:VTIMEZONE
TZID:Europe/Berlin
BEGIN:DAYLIGHT
TZOFFSETFROM:+0100
TZOFFSETTO:+0200
TZNAME:CEST
DTSTART:20230326T010000
END:DAYLIGHT
BEGIN:STANDARD
TZOFFSETFROM:+0200
TZOFFSETTO:+0100
TZNAME:CET
DTSTART:20231029T010000
END:STANDARD
BEGIN:DAYLIGHT
TZOFFSETFROM:+0100
TZOFFSETTO:+0200
TZNAME:CEST
DTSTART:20240331T010000
END:DAYLIGHT
BEGIN:STANDARD
TZOFFSETFROM:+0200
TZOFFSETTO:+0100
TZNAME:CET
DTSTART:20241027T010000
END:STANDARD
BEGIN:DAYLIGHT
TZOFFSETFROM:+0100
TZOFFSETTO:+0200
TZNAME:CEST
DTSTART:20250330T010000
END:DAYLIGHT
BEGIN:STANDARD
TZOFFSETFROM:+0200
TZOFFSETTO:+0100
TZNAME:CET
DTSTART:20251026T010000
END:STANDARD
END:VTIMEZONE
BEGIN:VEVENT
DTSTART;VALUE=DATE:20240325
DTEND;VALUE=DATE:20240407
DTSTAMP:20260423T165855
CREATED:20240125T163727Z
LAST-MODIFIED:20240125T163727Z
UID:2022-1711324800-1712447999@eks-bonn.de
SUMMARY:Osterferien
DESCRIPTION:
URL:https://eks-bonn.de/termine/osterferien-3/
END:VEVENT
BEGIN:VEVENT
DTSTART;VALUE=DATE:20240418
DTEND;VALUE=DATE:20240419
DTSTAMP:20260423T165855
CREATED:20230926T152003Z
LAST-MODIFIED:20230926T152003Z
UID:1915-1713398400-1713484799@eks-bonn.de
SUMMARY:15.30 -17.00 Uhr: Elterncafé (OGS)
DESCRIPTION:
URL:https://eks-bonn.de/termine/15-30-17-00-uhr-elterncafe-ogs/
END:VEVENT
BEGIN:VEVENT
DTSTART;VALUE=DATE:20240429
DTEND;VALUE=DATE:20240430
DTSTAMP:20260423T165855
CREATED:20240315T085512Z
LAST-MODIFIED:20240315T090005Z
UID:2028-1714348800-1714435199@eks-bonn.de
SUMMARY:18.20 Uhr: Schulpflegschaftssitzung / im Anschluss Schulkonferenz
DESCRIPTION:
URL:https://eks-bonn.de/termine/1820-uhr-schulpflegschaftssitzung-im-anschluss-schulkonferenz/
END:VEVENT
BEGIN:VEVENT
DTSTART;VALUE=DATE:20240430
DTEND;VALUE=DATE:20240501
DTSTAMP:20260423T165855
CREATED:20230926T152034Z
LAST-MODIFIED:20240429T132110Z
UID:1917-1714435200-1714521599@eks-bonn.de
SUMMARY:8.30 – 9.15 Uhr: Schnuppertag Schulneulinge Sj 24/25
DESCRIPTION:
URL:https://eks-bonn.de/termine/8-30-9-15-uhr-schnuppertag-schulneulinge-sj-24-25/
END:VEVENT
END:VCALENDAR