BEGIN:VCALENDAR
VERSION:2.0
PRODID:-//Erich Kästner Schule Bonn - ECPv6.15.13.1//NONSGML v1.0//EN
CALSCALE:GREGORIAN
METHOD:PUBLISH
X-ORIGINAL-URL:https://eks-bonn.de
X-WR-CALDESC:Veranstaltungen für Erich Kästner Schule Bonn
REFRESH-INTERVAL;VALUE=DURATION:PT1H
X-Robots-Tag:noindex
X-PUBLISHED-TTL:PT1H
BEGIN:VTIMEZONE
TZID:Europe/Berlin
BEGIN:DAYLIGHT
TZOFFSETFROM:+0100
TZOFFSETTO:+0200
TZNAME:CEST
DTSTART:20230326T010000
END:DAYLIGHT
BEGIN:STANDARD
TZOFFSETFROM:+0200
TZOFFSETTO:+0100
TZNAME:CET
DTSTART:20231029T010000
END:STANDARD
BEGIN:DAYLIGHT
TZOFFSETFROM:+0100
TZOFFSETTO:+0200
TZNAME:CEST
DTSTART:20240331T010000
END:DAYLIGHT
BEGIN:STANDARD
TZOFFSETFROM:+0200
TZOFFSETTO:+0100
TZNAME:CET
DTSTART:20241027T010000
END:STANDARD
BEGIN:DAYLIGHT
TZOFFSETFROM:+0100
TZOFFSETTO:+0200
TZNAME:CEST
DTSTART:20250330T010000
END:DAYLIGHT
BEGIN:STANDARD
TZOFFSETFROM:+0200
TZOFFSETTO:+0100
TZNAME:CET
DTSTART:20251026T010000
END:STANDARD
END:VTIMEZONE
BEGIN:VEVENT
DTSTART;VALUE=DATE:20240208
DTEND;VALUE=DATE:20240209
DTSTAMP:20260423T195047
CREATED:20231116T100043Z
LAST-MODIFIED:20231116T100619Z
UID:1966-1707350400-1707436799@eks-bonn.de
SUMMARY:Weiberfastnacht (Unterricht bis 11.11 Uhr / OGS bis 13.00 Uhr)
DESCRIPTION:
URL:https://eks-bonn.de/termine/weiberfastnacht-unterricht-bis-11-11-uhr-ogs-bis-13-00-uhr/
ATTACH;FMTTYPE=image/jpeg:https://eks-bonn.de/wp-content/uploads/2022/01/Karneval-scaled.jpg
END:VEVENT
BEGIN:VEVENT
DTSTART;VALUE=DATE:20240209
DTEND;VALUE=DATE:20240210
DTSTAMP:20260423T195047
CREATED:20231116T100205Z
LAST-MODIFIED:20231116T100205Z
UID:1968-1707436800-1707523199@eks-bonn.de
SUMMARY:beweglicher Ferientag (Karnevalsfreitag\, kein Unterricht\, keine OGS)
DESCRIPTION:
URL:https://eks-bonn.de/termine/beweglicher-ferientag-karnevalsfreitag-kein-unterricht-keine-ogs/
END:VEVENT
BEGIN:VEVENT
DTSTART;VALUE=DATE:20240212
DTEND;VALUE=DATE:20240213
DTSTAMP:20260423T195047
CREATED:20231116T100301Z
LAST-MODIFIED:20231116T100301Z
UID:1970-1707696000-1707782399@eks-bonn.de
SUMMARY:beweglicher Ferientag (Rosenmontag\, kein Unterricht\, keine OGS)
DESCRIPTION:
URL:https://eks-bonn.de/termine/beweglicher-ferientag-rosenmontag-kein-unterricht-keine-ogs/
END:VEVENT
BEGIN:VEVENT
DTSTART;VALUE=DATE:20240213
DTEND;VALUE=DATE:20240214
DTSTAMP:20260423T195047
CREATED:20231116T100404Z
LAST-MODIFIED:20231116T100404Z
UID:1972-1707782400-1707868799@eks-bonn.de
SUMMARY:beweglicher Ferientag (Karnevalsdienstag\, kein Unterricht\, keine OGS)
DESCRIPTION:
URL:https://eks-bonn.de/termine/beweglicher-ferientag-karnevalsdienstag-kein-unterricht-keine-ogs/
END:VEVENT
BEGIN:VEVENT
DTSTART;VALUE=DATE:20240222
DTEND;VALUE=DATE:20240223
DTSTAMP:20260423T195047
CREATED:20230926T151929Z
LAST-MODIFIED:20230926T151929Z
UID:1913-1708560000-1708646399@eks-bonn.de
SUMMARY:15.45 – 16.30 Uhr: Infoveranstaltung für interessierte Eltern zur Qualitätsanalyse (QA)
DESCRIPTION:
URL:https://eks-bonn.de/termine/15-45-16-30-uhr-infoveranstaltung-fuer-interessierte-eltern-zur-qualitaetsanalyse-qa/
END:VEVENT
END:VCALENDAR