BEGIN:VCALENDAR
VERSION:2.0
PRODID:-//Erich Kästner Schule Bonn - ECPv6.15.13.1//NONSGML v1.0//EN
CALSCALE:GREGORIAN
METHOD:PUBLISH
X-ORIGINAL-URL:https://eks-bonn.de
X-WR-CALDESC:Veranstaltungen für Erich Kästner Schule Bonn
REFRESH-INTERVAL;VALUE=DURATION:PT1H
X-Robots-Tag:noindex
X-PUBLISHED-TTL:PT1H
BEGIN:VTIMEZONE
TZID:Europe/Berlin
BEGIN:DAYLIGHT
TZOFFSETFROM:+0100
TZOFFSETTO:+0200
TZNAME:CEST
DTSTART:20220327T010000
END:DAYLIGHT
BEGIN:STANDARD
TZOFFSETFROM:+0200
TZOFFSETTO:+0100
TZNAME:CET
DTSTART:20221030T010000
END:STANDARD
BEGIN:DAYLIGHT
TZOFFSETFROM:+0100
TZOFFSETTO:+0200
TZNAME:CEST
DTSTART:20230326T010000
END:DAYLIGHT
BEGIN:STANDARD
TZOFFSETFROM:+0200
TZOFFSETTO:+0100
TZNAME:CET
DTSTART:20231029T010000
END:STANDARD
BEGIN:DAYLIGHT
TZOFFSETFROM:+0100
TZOFFSETTO:+0200
TZNAME:CEST
DTSTART:20240331T010000
END:DAYLIGHT
BEGIN:STANDARD
TZOFFSETFROM:+0200
TZOFFSETTO:+0100
TZNAME:CET
DTSTART:20241027T010000
END:STANDARD
BEGIN:DAYLIGHT
TZOFFSETFROM:+0100
TZOFFSETTO:+0200
TZNAME:CEST
DTSTART:20250330T010000
END:DAYLIGHT
BEGIN:STANDARD
TZOFFSETFROM:+0200
TZOFFSETTO:+0100
TZNAME:CET
DTSTART:20251026T010000
END:STANDARD
END:VTIMEZONE
BEGIN:VEVENT
DTSTART;VALUE=DATE:20231221
DTEND;VALUE=DATE:20240106
DTSTAMP:20260423T213004
CREATED:20231026T115117Z
LAST-MODIFIED:20231026T115117Z
UID:1956-1703116800-1704499199@eks-bonn.de
SUMMARY:Weihnachtsferien
DESCRIPTION:
URL:https://eks-bonn.de/termine/weihnachtsferien-3/
END:VEVENT
BEGIN:VEVENT
DTSTART;VALUE=DATE:20240108
DTEND;VALUE=DATE:20240109
DTSTAMP:20260423T213004
CREATED:20231026T115223Z
LAST-MODIFIED:20231026T115223Z
UID:1958-1704672000-1704758399@eks-bonn.de
SUMMARY:Pädagogischer Ganztag (kein Unterricht / keine OGS-Betreuung)
DESCRIPTION:
URL:https://eks-bonn.de/termine/paedagogischer-ganztag-kein-unterricht-keine-ogs-betreuung-2/
END:VEVENT
BEGIN:VEVENT
DTSTART;VALUE=DATE:20240126
DTEND;VALUE=DATE:20240127
DTSTAMP:20260423T213004
CREATED:20231026T115332Z
LAST-MODIFIED:20231026T115718Z
UID:1960-1706227200-1706313599@eks-bonn.de
SUMMARY:Ausgabe Halbjahreszeugnisse Klasse 3 und 4
DESCRIPTION:
URL:https://eks-bonn.de/termine/ausgabe-halbjahreszeugnisse-klasse-3-und-4-2/
END:VEVENT
END:VCALENDAR