BEGIN:VCALENDAR
VERSION:2.0
PRODID:-//Erich Kästner Schule Bonn - ECPv6.15.13.1//NONSGML v1.0//EN
CALSCALE:GREGORIAN
METHOD:PUBLISH
X-ORIGINAL-URL:https://eks-bonn.de
X-WR-CALDESC:Veranstaltungen für Erich Kästner Schule Bonn
REFRESH-INTERVAL;VALUE=DURATION:PT1H
X-Robots-Tag:noindex
X-PUBLISHED-TTL:PT1H
BEGIN:VTIMEZONE
TZID:Europe/Berlin
BEGIN:DAYLIGHT
TZOFFSETFROM:+0100
TZOFFSETTO:+0200
TZNAME:CEST
DTSTART:20220327T010000
END:DAYLIGHT
BEGIN:STANDARD
TZOFFSETFROM:+0200
TZOFFSETTO:+0100
TZNAME:CET
DTSTART:20221030T010000
END:STANDARD
BEGIN:DAYLIGHT
TZOFFSETFROM:+0100
TZOFFSETTO:+0200
TZNAME:CEST
DTSTART:20230326T010000
END:DAYLIGHT
BEGIN:STANDARD
TZOFFSETFROM:+0200
TZOFFSETTO:+0100
TZNAME:CET
DTSTART:20231029T010000
END:STANDARD
BEGIN:DAYLIGHT
TZOFFSETFROM:+0100
TZOFFSETTO:+0200
TZNAME:CEST
DTSTART:20240331T010000
END:DAYLIGHT
BEGIN:STANDARD
TZOFFSETFROM:+0200
TZOFFSETTO:+0100
TZNAME:CET
DTSTART:20241027T010000
END:STANDARD
END:VTIMEZONE
BEGIN:VEVENT
DTSTART;VALUE=DATE:20230908
DTEND;VALUE=DATE:20230909
DTSTAMP:20260424T030007
CREATED:20230620T184049Z
LAST-MODIFIED:20230831T174521Z
UID:1817-1694131200-1694217599@eks-bonn.de
SUMMARY:Schulfest (nachmittags) 15.00 Uhr - 17.00 Uhr                    davor: Sponsorenlauf (13.30 Uhr - 14.30 Uhr)
DESCRIPTION:
URL:https://eks-bonn.de/termine/schulfest-nachmittags-15-15-uhr-17-15-uhr/
ATTACH;FMTTYPE=image/png:https://eks-bonn.de/wp-content/uploads/2021/11/logo-eks-2018-e1637679261924.png
END:VEVENT
BEGIN:VEVENT
DTSTART;VALUE=DATE:20230908
DTEND;VALUE=DATE:20230909
DTSTAMP:20260424T030007
CREATED:20230816T035426Z
LAST-MODIFIED:20230816T035426Z
UID:1840-1694131200-1694217599@eks-bonn.de
SUMMARY:Sponsorenlauf (13.30 Uhr - 14.30 Uhr)
DESCRIPTION:
URL:https://eks-bonn.de/termine/sponsorenlauf-13-30-uhr-14-30-uhr/
END:VEVENT
BEGIN:VEVENT
DTSTART;VALUE=DATE:20230911
DTEND;VALUE=DATE:20230912
DTSTAMP:20260424T030007
CREATED:20230816T035610Z
LAST-MODIFIED:20230816T035610Z
UID:1842-1694390400-1694476799@eks-bonn.de
SUMMARY:Schulpflegschaftssitzung 18.00 Uhr / im Anschluss Schulkonferenz
DESCRIPTION:
URL:https://eks-bonn.de/termine/schulpflegschaftssitzung-18-00-uhr-im-anschluss-schulkonferenz/
END:VEVENT
BEGIN:VEVENT
DTSTART;VALUE=DATE:20230913
DTEND;VALUE=DATE:20230914
DTSTAMP:20260424T030007
CREATED:20230816T035808Z
LAST-MODIFIED:20230816T041820Z
UID:1844-1694563200-1694649599@eks-bonn.de
SUMMARY:Verkehrserziehung Klassen 1 (mit Herrn Müller\, Polizei); Elternhelfer*innen sind erforderlich
DESCRIPTION:
URL:https://eks-bonn.de/termine/verkehrserziehung-klassen-1-mit-herrn-mueller-polizei-elternhelferinnen-sind-erforderlich/
END:VEVENT
BEGIN:VEVENT
DTSTART;VALUE=DATE:20230915
DTEND;VALUE=DATE:20230916
DTSTAMP:20260424T030007
CREATED:20230620T184412Z
LAST-MODIFIED:20230620T184412Z
UID:1821-1694736000-1694822399@eks-bonn.de
SUMMARY:Gartenfest 8.00 Uhr - 14.00 Uhr
DESCRIPTION:
URL:https://eks-bonn.de/termine/gartenfest-8-00-uhr-14-00-uhr/
END:VEVENT
BEGIN:VEVENT
DTSTART;VALUE=DATE:20230929
DTEND;VALUE=DATE:20230930
DTSTAMP:20260424T030007
CREATED:20230620T184503Z
LAST-MODIFIED:20230620T184503Z
UID:1823-1695945600-1696031999@eks-bonn.de
SUMMARY:Pädagogischer Ganztag (kein Unterricht\, keine OGS-Betreuung)
DESCRIPTION:
URL:https://eks-bonn.de/termine/paedagogischer-ganztag-kein-unterricht-keine-ogs-betreuung/
END:VEVENT
END:VCALENDAR