BEGIN:VCALENDAR
VERSION:2.0
PRODID:-//Erich Kästner Schule Bonn - ECPv6.15.13.1//NONSGML v1.0//EN
CALSCALE:GREGORIAN
METHOD:PUBLISH
X-WR-CALNAME:Erich Kästner Schule Bonn
X-ORIGINAL-URL:https://eks-bonn.de
X-WR-CALDESC:Veranstaltungen für Erich Kästner Schule Bonn
REFRESH-INTERVAL;VALUE=DURATION:PT1H
X-Robots-Tag:noindex
X-PUBLISHED-TTL:PT1H
BEGIN:VTIMEZONE
TZID:Europe/Berlin
BEGIN:DAYLIGHT
TZOFFSETFROM:+0100
TZOFFSETTO:+0200
TZNAME:CEST
DTSTART:20220327T010000
END:DAYLIGHT
BEGIN:STANDARD
TZOFFSETFROM:+0200
TZOFFSETTO:+0100
TZNAME:CET
DTSTART:20221030T010000
END:STANDARD
BEGIN:DAYLIGHT
TZOFFSETFROM:+0100
TZOFFSETTO:+0200
TZNAME:CEST
DTSTART:20230326T010000
END:DAYLIGHT
BEGIN:STANDARD
TZOFFSETFROM:+0200
TZOFFSETTO:+0100
TZNAME:CET
DTSTART:20231029T010000
END:STANDARD
BEGIN:DAYLIGHT
TZOFFSETFROM:+0100
TZOFFSETTO:+0200
TZNAME:CEST
DTSTART:20240331T010000
END:DAYLIGHT
BEGIN:STANDARD
TZOFFSETFROM:+0200
TZOFFSETTO:+0100
TZNAME:CET
DTSTART:20241027T010000
END:STANDARD
END:VTIMEZONE
BEGIN:VEVENT
DTSTART;VALUE=DATE:20230807
DTEND;VALUE=DATE:20230808
DTSTAMP:20260424T041721
CREATED:20230620T183430Z
LAST-MODIFIED:20230620T183430Z
UID:1811-1691366400-1691452799@eks-bonn.de
SUMMARY:Wiederbeginn des Unterrichts für die Klassen 2\,3 und 4
DESCRIPTION:
URL:https://eks-bonn.de/termine/wiederbeginn-des-unterrichts-fuer-die-klassen-23-und-4/
END:VEVENT
BEGIN:VEVENT
DTSTART;VALUE=DATE:20230808
DTEND;VALUE=DATE:20230809
DTSTAMP:20260424T041721
CREATED:20230620T183511Z
LAST-MODIFIED:20230620T183511Z
UID:1813-1691452800-1691539199@eks-bonn.de
SUMMARY:Einschulung der neuen Erstklässler
DESCRIPTION:
URL:https://eks-bonn.de/termine/einschulung-der-neuen-erstklaessler/
END:VEVENT
BEGIN:VEVENT
DTSTART;VALUE=DATE:20230816
DTEND;VALUE=DATE:20230817
DTSTAMP:20260424T041721
CREATED:20230620T183701Z
LAST-MODIFIED:20230620T183701Z
UID:1815-1692144000-1692230399@eks-bonn.de
SUMMARY:8.00 Uhr: Schulung neuer Elternlotsen durch Hr. Müller von der Polizei
DESCRIPTION:
URL:https://eks-bonn.de/termine/8-00-uhr-schulung-neuer-elternlotsen-durch-hr-mueller-von-der-polizei/
END:VEVENT
BEGIN:VEVENT
DTSTART;VALUE=DATE:20230822
DTEND;VALUE=DATE:20230823
DTSTAMP:20260424T041721
CREATED:20230821T061345Z
LAST-MODIFIED:20230821T061522Z
UID:1856-1692662400-1692748799@eks-bonn.de
SUMMARY:Die OGS schließt bereits um 15.30 Uhr
DESCRIPTION:„Um 16.30 Uhr protestieren wir Eltern und Mitarbeiter im Stadthaus gegen die Kürzung der Betreuungszeiten! SEID DABEI!! Bringt eure Kinder\, Plakate und Trillerpfeifen mit – ES SOLL LAUT WERDEN!!“
URL:https://eks-bonn.de/termine/ogs-schliesst-bereits-um-15-30/
END:VEVENT
BEGIN:VEVENT
DTSTART;VALUE=DATE:20230830
DTEND;VALUE=DATE:20230831
DTSTAMP:20260424T041721
CREATED:20230816T033716Z
LAST-MODIFIED:20230816T034653Z
UID:1833-1693353600-1693439999@eks-bonn.de
SUMMARY:Elterninfoabend: "Übergang weiterführende Schule" 18.00 Uhr (Termin findet online statt)
DESCRIPTION:
URL:https://eks-bonn.de/termine/infoabend-eltern-uebergang-weiterfuehrende-schulen-18-00-uhr-termin-findet-online-statt/
END:VEVENT
END:VCALENDAR