BEGIN:VCALENDAR
VERSION:2.0
PRODID:-//Erich Kästner Schule Bonn - ECPv6.15.13.1//NONSGML v1.0//EN
CALSCALE:GREGORIAN
METHOD:PUBLISH
X-ORIGINAL-URL:https://eks-bonn.de
X-WR-CALDESC:Veranstaltungen für Erich Kästner Schule Bonn
REFRESH-INTERVAL;VALUE=DURATION:PT1H
X-Robots-Tag:noindex
X-PUBLISHED-TTL:PT1H
BEGIN:VTIMEZONE
TZID:Europe/Berlin
BEGIN:DAYLIGHT
TZOFFSETFROM:+0100
TZOFFSETTO:+0200
TZNAME:CEST
DTSTART:20210328T010000
END:DAYLIGHT
BEGIN:STANDARD
TZOFFSETFROM:+0200
TZOFFSETTO:+0100
TZNAME:CET
DTSTART:20211031T010000
END:STANDARD
BEGIN:DAYLIGHT
TZOFFSETFROM:+0100
TZOFFSETTO:+0200
TZNAME:CEST
DTSTART:20220327T010000
END:DAYLIGHT
BEGIN:STANDARD
TZOFFSETFROM:+0200
TZOFFSETTO:+0100
TZNAME:CET
DTSTART:20221030T010000
END:STANDARD
BEGIN:DAYLIGHT
TZOFFSETFROM:+0100
TZOFFSETTO:+0200
TZNAME:CEST
DTSTART:20230326T010000
END:DAYLIGHT
BEGIN:STANDARD
TZOFFSETFROM:+0200
TZOFFSETTO:+0100
TZNAME:CET
DTSTART:20231029T010000
END:STANDARD
END:VTIMEZONE
BEGIN:VEVENT
DTSTART;VALUE=DATE:20221118
DTEND;VALUE=DATE:20221119
DTSTAMP:20260424T180648
CREATED:20220920T161634Z
LAST-MODIFIED:20220920T161634Z
UID:1547-1668729600-1668815999@eks-bonn.de
SUMMARY:Vorlesetag
DESCRIPTION:
URL:https://eks-bonn.de/termine/vorlesetag/
END:VEVENT
BEGIN:VEVENT
DTSTART;VALUE=DATE:20221125
DTEND;VALUE=DATE:20221126
DTSTAMP:20260424T180648
CREATED:20220920T161838Z
LAST-MODIFIED:20220920T162520Z
UID:1549-1669334400-1669420799@eks-bonn.de
SUMMARY:Winterbasar
DESCRIPTION:
URL:https://eks-bonn.de/termine/winterbasar/
ATTACH;FMTTYPE=image/jpeg:https://eks-bonn.de/wp-content/uploads/2022/09/Winterbasar-e1701365266201.jpg
END:VEVENT
END:VCALENDAR