BEGIN:VCALENDAR
VERSION:2.0
PRODID:-//Erich Kästner Schule Bonn - ECPv6.15.13.1//NONSGML v1.0//EN
CALSCALE:GREGORIAN
METHOD:PUBLISH
X-ORIGINAL-URL:https://eks-bonn.de
X-WR-CALDESC:Veranstaltungen für Erich Kästner Schule Bonn
REFRESH-INTERVAL;VALUE=DURATION:PT1H
X-Robots-Tag:noindex
X-PUBLISHED-TTL:PT1H
BEGIN:VTIMEZONE
TZID:Europe/Berlin
BEGIN:DAYLIGHT
TZOFFSETFROM:+0100
TZOFFSETTO:+0200
TZNAME:CEST
DTSTART:20210328T010000
END:DAYLIGHT
BEGIN:STANDARD
TZOFFSETFROM:+0200
TZOFFSETTO:+0100
TZNAME:CET
DTSTART:20211031T010000
END:STANDARD
BEGIN:DAYLIGHT
TZOFFSETFROM:+0100
TZOFFSETTO:+0200
TZNAME:CEST
DTSTART:20220327T010000
END:DAYLIGHT
BEGIN:STANDARD
TZOFFSETFROM:+0200
TZOFFSETTO:+0100
TZNAME:CET
DTSTART:20221030T010000
END:STANDARD
BEGIN:DAYLIGHT
TZOFFSETFROM:+0100
TZOFFSETTO:+0200
TZNAME:CEST
DTSTART:20230326T010000
END:DAYLIGHT
BEGIN:STANDARD
TZOFFSETFROM:+0200
TZOFFSETTO:+0100
TZNAME:CET
DTSTART:20231029T010000
END:STANDARD
END:VTIMEZONE
BEGIN:VEVENT
DTSTART;VALUE=DATE:20220907
DTEND;VALUE=DATE:20220908
DTSTAMP:20260424T211914
CREATED:20220701T062054Z
LAST-MODIFIED:20220701T062851Z
UID:1398-1662508800-1662595199@eks-bonn.de
SUMMARY:18.00 Uhr: Schulpflegschaftssitzung / im Anschluss Schulkonferenz
DESCRIPTION:
URL:https://eks-bonn.de/termine/18-00-uhr-schulpflegschaftssitzung-im-anschluss-schulkonferenz/
END:VEVENT
BEGIN:VEVENT
DTSTART;VALUE=DATE:20220913
DTEND;VALUE=DATE:20220914
DTSTAMP:20260424T211914
CREATED:20220701T062234Z
LAST-MODIFIED:20220701T062948Z
UID:1400-1663027200-1663113599@eks-bonn.de
SUMMARY:Klassen 1: Schulweg-/ Fußgängertraining mit Herrn Müller (Polizei)\, ElternhelferInnen
DESCRIPTION:
URL:https://eks-bonn.de/termine/klassen-1-schulweg-fussgaengertraining-mit-herrn-mueller-polizei-elternhelferinnen/
END:VEVENT
BEGIN:VEVENT
DTSTART;VALUE=DATE:20220916
DTEND;VALUE=DATE:20220917
DTSTAMP:20260424T211914
CREATED:20220701T062314Z
LAST-MODIFIED:20220906T153554Z
UID:1402-1663286400-1663372799@eks-bonn.de
SUMMARY:15.00 - ca.17.00 Uhr: Tag der offenen Tür
DESCRIPTION:
URL:https://eks-bonn.de/termine/tag-der-offenen-tuer/
ATTACH;FMTTYPE=image/jpeg:https://eks-bonn.de/wp-content/uploads/2022/09/Tag-der-offenen-Tuer-2022.jpg
END:VEVENT
BEGIN:VEVENT
DTSTART;VALUE=DATE:20220917
DTEND;VALUE=DATE:20220918
DTSTAMP:20260424T211914
CREATED:20220701T062439Z
LAST-MODIFIED:20220906T154137Z
UID:1404-1663372800-1663459199@eks-bonn.de
SUMMARY:Wasserland Festival - EKS Sponsorenlauf (Erlös: anteilig neues Wasserland / anteilig Förderverein) Weitere Infos unter www.wasserland-festival.de
DESCRIPTION:
URL:https://eks-bonn.de/termine/wasserland-festival-eks-sponsorenlauf-erloes-anteilig-neues-wasserland-anteilig-foerderverein-weitere-infos-nach-den-sommerferien/
END:VEVENT
BEGIN:VEVENT
DTSTART;TZID=Europe/Berlin:20220927T183000
DTEND;TZID=Europe/Berlin:20220927T183000
DTSTAMP:20260424T211914
CREATED:20220819T161100Z
LAST-MODIFIED:20220912T164924Z
UID:1470-1664303400-1664303400@eks-bonn.de
SUMMARY:Elternabend Lernwerkstatt im FEG / Flyerlink
DESCRIPTION:Um 18.30 Uhr findet statt: \nElternabend Eröffnung Lernwerkstatt Verbund Süd für die Eltern der GS im FEG \nDie Anmeldung ist für beide Veranstaltungen auf je ca. 90 Personen limitiert. \nMelden Sie sich bitte unter folgendem Anmeldelink an: \nhttp://bonneum.feg-bonn.de \n  \nFür mehr Informationen gibt es diesen Flyer.
URL:https://eks-bonn.de/termine/elternabend-lernwerkstatt-im-feg/
END:VEVENT
END:VCALENDAR